BEGIN:VCALENDAR
VERSION:2.0
PRODID:-//ChamberMaster//Event Calendar 2.0//EN
METHOD:PUBLISH
X-PUBLISHED-TTL:P3D
REFRESH-INTERVAL:P3D
CALSCALE:GREGORIAN
BEGIN:VEVENT
DTSTART:20211207T230000Z
DTEND:20211208T020000Z
X-MICROSOFT-CDO-ALLDAYEVENT:FALSE
SUMMARY:Annual LC Chamber Christmas Open House
DESCRIPTION:Annual LC Chamber Christmas Open House \n\n	Join us for some holiday fun\, refreshments\, and fellowship!
X-ALT-DESC;FMTTYPE=text/html:Annual LC Chamber Christmas Open House&nbsp\;\n<ul>\n	<li>Join us for some holiday fun\, refreshments\, and fellowship!</li>\n</ul>\n
LOCATION:LC Chamber of Commerce Office Facility
UID:e.3484.275
SEQUENCE:3
DTSTAMP:20260425T035551Z
URL:https://www.lawrencealabama.com/events/details/annual-lc-chamber-christmas-open-house-275
END:VEVENT

END:VCALENDAR
